BEGIN:VCALENDAR
VERSION:2.0
PRODID:-//PellasNature - ECPv5.16.1.1//NONSGML v1.0//EN
CALSCALE:GREGORIAN
METHOD:PUBLISH
X-WR-CALNAME:PellasNature
X-ORIGINAL-URL:https://pellasnature.com
X-WR-CALDESC:Events for PellasNature
BEGIN:VTIMEZONE
TZID:Europe/Athens
BEGIN:DAYLIGHT
TZOFFSETFROM:+0200
TZOFFSETTO:+0300
TZNAME:EEST
DTSTART:20200329T010000
END:DAYLIGHT
BEGIN:STANDARD
TZOFFSETFROM:+0300
TZOFFSETTO:+0200
TZNAME:EET
DTSTART:20201025T010000
END:STANDARD
END:VTIMEZONE
BEGIN:VEVENT
DTSTART;VALUE=DATE:20200523
DTEND;VALUE=DATE:20200524
DTSTAMP:20260418T010538
CREATED:20200523T171953Z
LAST-MODIFIED:20210514T103254Z
UID:4450-1590192000-1590278399@pellasnature.com
SUMMARY:Athena IOOC 2020
DESCRIPTION:One Double Gold and Three Gold Medals at Athena IOOC 2020! \nDouble Gold Medal for Pellas Nature Red Hot Pepper olive oil\, Gold Medals for Pellas Nature Basil olive oil\,  Pellas Nature Lemon olive oil and Pellas Nature Greek Herbs olive oil at the Athena IOOC 2020!
URL:https://pellasnature.com/event/athena-iooc-2020/
CATEGORIES:Awards
ATTACH;FMTTYPE=image/jpeg:https://pellasnature.com/wp-content/uploads/2020/09/Medals-AthennaIOOC2020-combo-100-1.jpg
END:VEVENT
END:VCALENDAR